BEGIN:VCALENDAR
VERSION:2.0
PRODID:-//eventon.com NONSGML v1.0//EN
CALSCALE:GREGORIAN
METHOD:PUBLISH
BEGIN:VEVENT
UID:69e8efdf91798
DTSTAMP:20260422T155719Z
DTSTART:20260704T000000Z
DTEND:20260704T020000Z
LOCATION:
SUMMARY:Friday Cocktail Hour at Mercury Wines!
DESCRIPTION:The first Friday of the month\,  join us at the Mercury Wines t
 asting room for $5 wine cocktails served with tasty small bites and snacks!
  Serving from 5PM to 7PM. Cheers!\nhttps://geyservilleplanningcommittee.com
 /upcoming-events//friday-cocktail-hour-at-mercury-wines-copy/
URL:https://geyservilleplanningcommittee.com/upcoming-events//friday-cocktail-hour-at-mercury-wines-copy/
END:VEVENT
END:VCALENDAR