BEGIN:VCALENDAR
VERSION:2.0
PRODID:-//eventon.com NONSGML v1.0//EN
CALSCALE:GREGORIAN
METHOD:PUBLISH
BEGIN:VEVENT
UID:69e8ef9c41cb0
DTSTAMP:20260422T155612Z
DTSTART:20260503T180000Z
DTEND:20260503T230000Z
LOCATION:
SUMMARY:MAY DAY FESTIVAL
DESCRIPTION:Date: May 3\,  2026Time: 11:00 AM – 4:00 PMAdmission: Free A 
 long-running community celebration dating back to 1925\,  the Geyserville M
 ay Day Festival brings locals together to celebrate spring with family-frie
 ndly activities\,  food\,  and live entertainment. Highlights include the c
 rowning of the May Day Queen at 1:00 PM\,  followed by[..]\nhttps://geyserv
 illeplanningcommittee.com/upcoming-events//may-day-festival/
URL:https://geyservilleplanningcommittee.com/upcoming-events//may-day-festival/
END:VEVENT
END:VCALENDAR